BEGIN:VCALENDAR
VERSION:2.0
PRODID:-//hacksw/handcal//NONSGML v1.0//EN
BEGIN:VEVENT
SUMMARY:ASSEMBLEE GENERALE - LOGIS
UID:f303c149-8279-4fef-9daa-97fc7862ba91
DTSTART:20260604T180000Z
DTEND:20260604T200000Z
LOCATION:Localisation   
CATEGORIES:Sportif
STATUS:
URL;VALUE=URI:https://www.ciearcmoussy.com/evenements/2026/06/04/assemblee-generale-logis-2443133
END:VEVENT
END:VCALENDAR
