BEGIN:VCALENDAR
VERSION:2.0
PRODID:-//hacksw/handcal//NONSGML v1.0//EN
BEGIN:VEVENT
SUMMARY:PARTIE DE JARDIN - BBQ
UID:31f92381-ca74-4c1a-9e0b-5241fe74cf3b
DTSTART:20260530T130000Z
DTEND:20260530T200000Z
LOCATION:Localisation   
CATEGORIES:Festif
STATUS:
URL;VALUE=URI:https://www.ciearcmoussy.com/evenements/2026/05/30/partie-de-jardin-bbq-2443130
END:VEVENT
END:VCALENDAR
