BEGIN:VCALENDAR
VERSION:2.0
PRODID:-//hacksw/handcal//NONSGML v1.0//EN
BEGIN:VEVENT
SUMMARY:Bouquet Provincial - Chiry Ourscamp
UID:d1dbdb93-d184-4499-bea3-7cef3c117067
DTSTART:20260517T060000Z
DTEND:20260517T163000Z
LOCATION:Localisation   
CATEGORIES:Manifestation
STATUS:
URL;VALUE=URI:https://www.ciearcmoussy.com/evenements/2026/05/17/bouquet-provincial-chiry-ourscamp-2443127
END:VEVENT
END:VCALENDAR
